BEGIN:VCALENDAR
VERSION:2.0
PRODID:-//SWATFlorida - ECPv6.15.20//NONSGML v1.0//EN
CALSCALE:GREGORIAN
METHOD:PUBLISH
X-ORIGINAL-URL:https://www.swatflorida.com
X-WR-CALDESC:Events for SWATFlorida
REFRESH-INTERVAL;VALUE=DURATION:PT1H
X-Robots-Tag:noindex
X-PUBLISHED-TTL:PT1H
BEGIN:VTIMEZONE
TZID:America/New_York
BEGIN:DAYLIGHT
TZOFFSETFROM:-0500
TZOFFSETTO:-0400
TZNAME:EDT
DTSTART:20200308T070000
END:DAYLIGHT
BEGIN:STANDARD
TZOFFSETFROM:-0400
TZOFFSETTO:-0500
TZNAME:EST
DTSTART:20201101T060000
END:STANDARD
BEGIN:DAYLIGHT
TZOFFSETFROM:-0500
TZOFFSETTO:-0400
TZNAME:EDT
DTSTART:20210314T070000
END:DAYLIGHT
BEGIN:STANDARD
TZOFFSETFROM:-0400
TZOFFSETTO:-0500
TZNAME:EST
DTSTART:20211107T060000
END:STANDARD
BEGIN:DAYLIGHT
TZOFFSETFROM:-0500
TZOFFSETTO:-0400
TZNAME:EDT
DTSTART:20220313T070000
END:DAYLIGHT
BEGIN:STANDARD
TZOFFSETFROM:-0400
TZOFFSETTO:-0500
TZNAME:EST
DTSTART:20221106T060000
END:STANDARD
END:VTIMEZONE
BEGIN:VEVENT
DTSTART;TZID=America/New_York:20210923T203000
DTEND;TZID=America/New_York:20210923T213000
DTSTAMP:20260423T101925
CREATED:20210713T180846Z
LAST-MODIFIED:20210713T181145Z
UID:10000046-1632429000-1632432600@www.swatflorida.com
SUMMARY:September Statewide SWAT Call
DESCRIPTION:[vc_row][vc_column][vc_empty_space height=”3em”][/vc_column][/vc_row][vc_row][vc_column width=”1/4″][vc_single_image image=”598″ img_size=”full” alignment=”center”][/vc_column][vc_column width=”3/4″][vc_column_text]We would love to have you join us on our SWAT Statewide Call! \nJoin us on Thursday\, September 23\, 2021 at 8:30p.m. ET/ 7:30p.m. CT. \nIn the ‘DETAILS’ section below\, Please register for the Statewide SWAT Call by clicking ‘View Event Website’. After registering\, you will receive a confirmation email containing information about joining the webinar. \nBrought to you by GoToWebinar® Webinars Made Easy® \nAUDIO ONLY IS AVAILABLE:\nParticipants can use their telephone or computer mic & speakers (VoIP).\nUNITED STATES\n+1 (951) 384-3421 \nUNITED STATES Toll Free\n1 866 901 6455\nAUDIO PIN\nShown after joining the webinar \nAccess Code: 218-401-235[/vc_column_text][/vc_column][/vc_row][vc_row][vc_column][vc_empty_space height=”3em”][/vc_column][/vc_row]
URL:https://www.swatflorida.com/event/september-statewide-swat-call/
END:VEVENT
END:VCALENDAR