BEGIN:VCALENDAR
VERSION:2.0
PRODID:-//SWATFlorida - ECPv6.15.20//NONSGML v1.0//EN
CALSCALE:GREGORIAN
METHOD:PUBLISH
X-ORIGINAL-URL:https://www.swatflorida.com
X-WR-CALDESC:Events for SWATFlorida
REFRESH-INTERVAL;VALUE=DURATION:PT1H
X-Robots-Tag:noindex
X-PUBLISHED-TTL:PT1H
BEGIN:VTIMEZONE
TZID:America/New_York
BEGIN:DAYLIGHT
TZOFFSETFROM:-0500
TZOFFSETTO:-0400
TZNAME:EDT
DTSTART:20200308T070000
END:DAYLIGHT
BEGIN:STANDARD
TZOFFSETFROM:-0400
TZOFFSETTO:-0500
TZNAME:EST
DTSTART:20201101T060000
END:STANDARD
BEGIN:DAYLIGHT
TZOFFSETFROM:-0500
TZOFFSETTO:-0400
TZNAME:EDT
DTSTART:20210314T070000
END:DAYLIGHT
BEGIN:STANDARD
TZOFFSETFROM:-0400
TZOFFSETTO:-0500
TZNAME:EST
DTSTART:20211107T060000
END:STANDARD
BEGIN:DAYLIGHT
TZOFFSETFROM:-0500
TZOFFSETTO:-0400
TZNAME:EDT
DTSTART:20220313T070000
END:DAYLIGHT
BEGIN:STANDARD
TZOFFSETFROM:-0400
TZOFFSETTO:-0500
TZNAME:EST
DTSTART:20221106T060000
END:STANDARD
END:VTIMEZONE
BEGIN:VEVENT
DTSTART;VALUE=DATE:20211020
DTEND;VALUE=DATE:20211021
DTSTAMP:20260419T115127
CREATED:20210713T184044Z
LAST-MODIFIED:20210713T184044Z
UID:10000055-1634688000-1634774399@www.swatflorida.com
SUMMARY:Not A Lab Rat Day!
DESCRIPTION:[vc_row][vc_column][vc_empty_space height=”3em”][/vc_column][/vc_row][vc_row][vc_column width=”1/4″][vc_single_image image=”613″ img_size=”full” alignment=”center”][/vc_column][vc_column width=”3/4″][vc_column_text]Not A Lab Rat (NALR) Day\, observed annually on the third Wednesday in October\, is SWAT’s initiative to empower young people to stand up and declare that they refuse to be the industry’s “lab rats” as we wait and see the long-term health effects of vaping. SWAT youth across the state of Florida use NALR week (October 18-24) to educate their peers on the common misconceptions about vaping and the negative health effects it has on youth. Join us this NALR Day as we take a stand against Big Tobacco and their deadly products. To learn more about the Not A Lab Rat campaign\, click on ‘View Event Website’ under the ‘DETAILS’ section below.[/vc_column_text][/vc_column][/vc_row][vc_row][vc_column][vc_empty_space height=”3em”][/vc_column][/vc_row]
URL:https://www.swatflorida.com/event/not-a-lab-rat-day/
END:VEVENT
BEGIN:VEVENT
DTSTART;VALUE=DATE:20211023
DTEND;VALUE=DATE:20211101
DTSTAMP:20260419T115127
CREATED:20210713T184622Z
LAST-MODIFIED:20210713T184622Z
UID:10000056-1634947200-1635724799@www.swatflorida.com
SUMMARY:Red Ribbon Week!
DESCRIPTION:[vc_row][vc_column][vc_empty_space height=”3em”][/vc_column][/vc_row][vc_row][vc_column width=”1/4″][vc_single_image image=”613″ img_size=”full” alignment=”center”][/vc_column][vc_column width=”3/4″][vc_column_text]The 2021 National Red Ribbon Week theme is: Drug Free Looks Like Me. Join SWAT as we celebrate being Tobacco Free. The theme of Red Ribbon Week also serves as a reminder that everyday Americans across the country make significant daily contributions to their communities by being the best they can be because they live Drug-Free. Red Ribbon Week runs from October 23-31\,2021. To learn more\, click on ‘View Event Website’ under the ‘DETAILS’ section below.[/vc_column_text][/vc_column][/vc_row][vc_row][vc_column][vc_empty_space height=”3em”][/vc_column][/vc_row]
URL:https://www.swatflorida.com/event/red-ribbon-week/
END:VEVENT
BEGIN:VEVENT
DTSTART;TZID=America/New_York:20211028T203000
DTEND;TZID=America/New_York:20211028T213000
DTSTAMP:20260419T115127
CREATED:20210713T181104Z
LAST-MODIFIED:20210713T181104Z
UID:10000047-1635453000-1635456600@www.swatflorida.com
SUMMARY:October Statewide SWAT Call
DESCRIPTION:[vc_row][vc_column][vc_empty_space height=”3em”][/vc_column][/vc_row][vc_row][vc_column width=”1/4″][vc_single_image image=”598″ img_size=”full” alignment=”center”][/vc_column][vc_column width=”3/4″][vc_column_text]We would love to have you join us on our SWAT Statewide Call! \nJoin us on Thursday\, October 28\, 2021 at 8:30p.m. ET/ 7:30p.m. CT. \nIn the ‘DETAILS’ section below\, Please register for the Statewide SWAT Call by clicking ‘View Event Website’. After registering\, you will receive a confirmation email containing information about joining the webinar. \nBrought to you by GoToWebinar® Webinars Made Easy® \nAUDIO ONLY IS AVAILABLE:\nParticipants can use their telephone or computer mic & speakers (VoIP).\nUNITED STATES\n+1 (951) 384-3421 \nUNITED STATES Toll Free\n1 866 901 6455\nAUDIO PIN\nShown after joining the webinar \nAccess Code: 218-401-235 \n[/vc_column_text][/vc_column][/vc_row][vc_row][vc_column][vc_empty_space height=”3em”][/vc_column][/vc_row]
URL:https://www.swatflorida.com/event/october-statewide-swat-call/
END:VEVENT
END:VCALENDAR